BEGIN:VCALENDAR
VERSION:2.0
PRODID:-//gestalte DEIN Sein! - ECPv6.15.18//NONSGML v1.0//EN
CALSCALE:GREGORIAN
METHOD:PUBLISH
X-WR-CALNAME:gestalte DEIN Sein!
X-ORIGINAL-URL:https://gestaltedeinsein.de
X-WR-CALDESC:Veranstaltungen für gestalte DEIN Sein!
REFRESH-INTERVAL;VALUE=DURATION:PT1H
X-Robots-Tag:noindex
X-PUBLISHED-TTL:PT1H
BEGIN:VTIMEZONE
TZID:Europe/Berlin
BEGIN:DAYLIGHT
TZOFFSETFROM:+0100
TZOFFSETTO:+0200
TZNAME:CEST
DTSTART:20240331T010000
END:DAYLIGHT
BEGIN:STANDARD
TZOFFSETFROM:+0200
TZOFFSETTO:+0100
TZNAME:CET
DTSTART:20241027T010000
END:STANDARD
BEGIN:DAYLIGHT
TZOFFSETFROM:+0100
TZOFFSETTO:+0200
TZNAME:CEST
DTSTART:20250330T010000
END:DAYLIGHT
BEGIN:STANDARD
TZOFFSETFROM:+0200
TZOFFSETTO:+0100
TZNAME:CET
DTSTART:20251026T010000
END:STANDARD
BEGIN:DAYLIGHT
TZOFFSETFROM:+0100
TZOFFSETTO:+0200
TZNAME:CEST
DTSTART:20260329T010000
END:DAYLIGHT
BEGIN:STANDARD
TZOFFSETFROM:+0200
TZOFFSETTO:+0100
TZNAME:CET
DTSTART:20261025T010000
END:STANDARD
BEGIN:DAYLIGHT
TZOFFSETFROM:+0100
TZOFFSETTO:+0200
TZNAME:CEST
DTSTART:20270328T010000
END:DAYLIGHT
BEGIN:STANDARD
TZOFFSETFROM:+0200
TZOFFSETTO:+0100
TZNAME:CET
DTSTART:20271031T010000
END:STANDARD
END:VTIMEZONE
BEGIN:VEVENT
DTSTART;TZID=Europe/Berlin:20260314T160000
DTEND;TZID=Europe/Berlin:20260314T190000
DTSTAMP:20260421T160007
CREATED:20260211T114835Z
LAST-MODIFIED:20260211T114835Z
UID:1641-1773504000-1773514800@gestaltedeinsein.de
SUMMARY:Alpha Omega Wasser
DESCRIPTION:Jakob Mayer zeigt in seinem packenden Vortrag auf\, was Wasser noch so alles kann und erläutert womit die Wissenschaft durch Alpha Omega Wasser Neuland betreten konnte. \n\n\n\nAm 15.3. besteht die Möglichkeit\, die Alpha Omega-Liege auszuprobieren. Eine Behandlung kostet 40€.  \n\n\n\nDer Vortrag ist auf Spendenbasis. Bitte beachte die Hinweise zum Parken bei uns.
URL:https://gestaltedeinsein.de/termine/alpha-omega-wasser/
LOCATION:Seminarhaus „gestalte DEIN  Sein!“
CATEGORIES:externer Veranstalter
ATTACH;FMTTYPE=image/jpeg:https://gestaltedeinsein.de/wp-content/uploads/2026/02/20260314_AlphaOmega-Vortrag.jpg
END:VEVENT
BEGIN:VEVENT
DTSTART;TZID=Europe/Berlin:20260306T180000
DTEND;TZID=Europe/Berlin:20260306T200000
DTSTAMP:20260421T160007
CREATED:20260224T090757Z
LAST-MODIFIED:20260224T090758Z
UID:1646-1772820000-1772827200@gestaltedeinsein.de
SUMMARY:Kakao und Klang
DESCRIPTION:Reise in Deine inneren Räume\, nehme sie tiefer wahr\, mit dieser Kakaozeremonie\, begleitet durch impovisierte Klänge. \n\n\n\nAm Anfang wird natürlich Kakao getrunken. Dieser besondere Kakao in seiner reinen Form öffnet das Herz und macht dich emfänglicher für die Wahrnehmung deiner inneren Räume. \n\n\n\nDu kannst damit leichter entspannen\, lauschen und innerlich reisen. \n\n\n\nDabei unterstütze ich dich durch eine Klangreise. Während du entspannt daliegst\, improvisiere ich mit verschiedenen Instrumenten\, wie dem Gong\, Klangschalen\, Flöte und den Tönen meiner Stimme. \n\n\n\nKlangreisen helfen dir in Kontakt zu deinen inneren Anteilen zu kommen. \n\n\n\nAnmeldung an karenbrodersen@web.de bis spätestens 04.03.2026.
URL:https://gestaltedeinsein.de/termine/kakao-und-klang-2/
LOCATION:Seminarhaus „gestalte DEIN  Sein!“
CATEGORIES:externer Veranstalter
ATTACH;FMTTYPE=image/jpeg:https://gestaltedeinsein.de/wp-content/uploads/2026/02/photo_2026-02-24_10-06-48.jpg
ORGANIZER;CN="Karen Brodersen":MAILTO:karenbrodersen@web.de
END:VEVENT
BEGIN:VEVENT
DTSTART;TZID=Europe/Berlin:20260301T140000
DTEND;TZID=Europe/Berlin:20260301T170000
DTSTAMP:20260421T160007
CREATED:20250912T074430Z
LAST-MODIFIED:20251008T053520Z
UID:1582-1772373600-1772384400@gestaltedeinsein.de
SUMMARY:Seminar zum Bau einer "Natur Harmonie Station"
DESCRIPTION:n diesem Kurs bauen wir gemeinsam eine „Natur Harmonie Station“ NHS 2.0 für Deinen Garten. In der Kursgebühr sind die Materialien und die Seminarleitung durch Stefan Scholz enthalten. \n\n\n\nWas die NHS 2.0 Dir und Mutter Erde bringt: \n\n\n\n\nDas Gerät vereinigt Wissen von Wilhelm Reich aus der Orgon Technologie mit naturgegebenen Eigenschaften der Elemente wie auch das Einbinden der Naturwesen zum Wohle der Erde und all seiner Wesenheiten.\n\n\n\nEs bildet sich ein energetischer Torus mit einem Zentralzylinder von mehreren km Höhe und einigen km Radius\, der sichtbar den Himmel klärt. (Radiästhetische Mutung)\n\n\n\nAlle alten und neuen Erdgitternetze werden durch Resonanz gestärkt und synchronisiert (Radiästhetische Mutung)\n\n\n\nAls Folge davon werden alle Lebensenergie-Vorgänge bei Pflanzen\, Tieren\, Menschen\, in naturrichtig Schwingung versetzt und gestärkt – dies führt zu einer Vielzahl positiver Veränderungen.\n\n\n\nBeim Aufstellen des Gerätes / der Inbetriebnahme laden wir die Naturwesen ein mit uns gemeinsam daran zu arbeiten das die Natur wieder naturrichtig schwingt.\n\n\n\n\nAnmeldung unter der Mailadresse info@gestaltedeinsein.de \n\n\n\nHinweise zum Parken bei uns findest Du HIER.
URL:https://gestaltedeinsein.de/termine/seminar-zum-bau-einer-natur-harmonie-station-2/
LOCATION:Seminarhaus „gestalte DEIN  Sein!“
CATEGORIES:gestalte DEIN Sein!
ATTACH;FMTTYPE=image/png:https://gestaltedeinsein.de/wp-content/uploads/2025/04/©NHS-Logo-Email.png
ORGANIZER;CN="gestalte DEIN Sein!":MAILTO:info@gestaltedeinsein.de
END:VEVENT
BEGIN:VEVENT
DTSTART;TZID=Europe/Berlin:20260213T180000
DTEND;TZID=Europe/Berlin:20260213T220000
DTSTAMP:20260421T160007
CREATED:20250912T072152Z
LAST-MODIFIED:20251010T051037Z
UID:1568-1771005600-1771020000@gestaltedeinsein.de
SUMMARY:Zeit für Begegnung
DESCRIPTION:Geselliges Beisammensein und Austausch rund um einen Vortrag von 30 bis 60 Minuten. Uwe Knudsen referiert über das Thema „Wenn das Miteinander belastet ist“. \n\n\n\nWir bitten\, etwas für das gemeinsame Mitbringbuffett mizubringen. Für Getränke sorgen wir. \n\n\n\nUm Anmeldung unter info@gestaltedeinsein.de oder per Telegram wird gebeten. \n\n\n\nHinweise zum Parken bei uns findest Du HIER.
URL:https://gestaltedeinsein.de/termine/zeit-fuer-begegnung-2/
LOCATION:Seminarhaus „gestalte DEIN  Sein!“
CATEGORIES:Netzwerken
ATTACH;FMTTYPE=image/png:https://gestaltedeinsein.de/wp-content/uploads/2024/12/Befreiungshilfe.png
ORGANIZER;CN="gestalte DEIN Sein!":MAILTO:info@gestaltedeinsein.de
END:VEVENT
BEGIN:VEVENT
DTSTART;TZID=Europe/Berlin:20260207T140000
DTEND;TZID=Europe/Berlin:20260207T180000
DTSTAMP:20260421T160007
CREATED:20251105T075247Z
LAST-MODIFIED:20251127T101004Z
UID:1630-1770472800-1770487200@gestaltedeinsein.de
SUMMARY:Workshop: Der kleine Parfumeur
DESCRIPTION:Du erlernst mit einer erfahrenen Parfumeurin an deiner Seite die Grundlagen der professionellen Naturparfum-Herstellung. Die Teilnehmer werden durch einen multisensorischen Parfum-Workshop geführt\, bei dem sie lernen\, ihren persönlichen\, luxuriösen Duft aus einer Auswahl von 22 exquisiten\, professionellen Parfum-Duftstoffen zu kreieren (sechs Kopfnoten\, acht Herznoten\, acht Basisnoten). Wir üben\, diese Essenzen sinnvoll und wohlriechend zu komponieren und zu mischen. \n\n\n\nWir verwenden 100% natürliche Essenzen wie seltene Hölzer\, kostbare Blüten-Absolues\, sinnliche Gewürze und warme Gourmand-Noten. Der Workshop wird von Corinna\, Parfümeurin und Architektin\, geleitet. \n\n\n\nAnmeldungen bitte an: aloha@aloha-senses.com bis spätestens 04.02.2025
URL:https://gestaltedeinsein.de/termine/workshop-der-kleine-parfumeur/
LOCATION:Seminarhaus „gestalte DEIN  Sein!“
ATTACH;FMTTYPE=image/jpeg:https://gestaltedeinsein.de/wp-content/uploads/2025/11/aloha-senses-workshop.jpg
END:VEVENT
BEGIN:VEVENT
DTSTART;TZID=Europe/Berlin:20260131T150000
DTEND;TZID=Europe/Berlin:20260131T190000
DTSTAMP:20260421T160007
CREATED:20241213T164659Z
LAST-MODIFIED:20251008T053349Z
UID:1364-1769871600-1769886000@gestaltedeinsein.de
SUMMARY:Gesundheitsfürsorge auf Gegenseitigkeit - geht das?
DESCRIPTION:… aus der Reihe „Neue Zeit Neue Welt Neue Erde“. Vortrag\, Erfahrungsbericht und Diskussion. Wir bitten\, etwas für das gemeinsame Mitbringbuffett mizubringen. Für Getränke sorgen wir. \n\n\n\nUm Anmeldung unter info@gestaltedeinsein.de oder per Telegram wird gebeten. \n\n\n\nHinweise zum Parken bei uns findest Du HIER.
URL:https://gestaltedeinsein.de/termine/gesundheitsfuersorge-auf-gegenseitigkeit-geht-das/
LOCATION:Seminarhaus „gestalte DEIN  Sein!“
CATEGORIES:NZNWNE
ATTACH;FMTTYPE=image/png:https://gestaltedeinsein.de/wp-content/uploads/2024/11/20230424_Entwurf_Logo_3-e1732120776441.png
ORGANIZER;CN="Stefan":MAILTO:info@gestaltedeinsein.de
END:VEVENT
BEGIN:VEVENT
DTSTART;TZID=Europe/Berlin:20260109T180000
DTEND;TZID=Europe/Berlin:20260109T220000
DTSTAMP:20260421T160007
CREATED:20250912T071946Z
LAST-MODIFIED:20251008T053334Z
UID:1566-1767981600-1767996000@gestaltedeinsein.de
SUMMARY:Zeit für Begegnung
DESCRIPTION:Geselliges Beisammensein und Austausch rund um einen Vortrag von 30 bis 60 Minuten. Das Thema ist noch nicht bestimmt. \n\n\n\nWir bitten\, etwas für das gemeinsame Mitbringbuffett mizubringen. Für Getränke sorgen wir. \n\n\n\nUm Anmeldung unter info@gestaltedeinsein.de oder per Telegram wird gebeten. \n\n\n\nHinweise zum Parken bei uns findest Du HIER.
URL:https://gestaltedeinsein.de/termine/zeit-fuer-begegnung/
LOCATION:Seminarhaus „gestalte DEIN  Sein!“
CATEGORIES:Netzwerken
ATTACH;FMTTYPE=image/png:https://gestaltedeinsein.de/wp-content/uploads/2019/12/20191212_Logo_mit_Schriftzug_transparent_450x100.png
ORGANIZER;CN="gestalte DEIN Sein!":MAILTO:info@gestaltedeinsein.de
END:VEVENT
BEGIN:VEVENT
DTSTART;TZID=Europe/Berlin:20251212T180000
DTEND;TZID=Europe/Berlin:20251212T220000
DTSTAMP:20260421T160007
CREATED:20241213T164929Z
LAST-MODIFIED:20251008T053320Z
UID:1366-1765562400-1765576800@gestaltedeinsein.de
SUMMARY:Zeit für Begegnung
DESCRIPTION:Geselliges Beisammensein und Austausch rund um einen Vortrag von 30 bis 60 Minuten zum Thema „Traditionen zum Jahreswechsel – Weihnachten oder Rauhnächte?“.  \n\n\n\nWir bitten\, etwas für das gemeinsame Mitbringbuffett mizubringen. Für Getränke sorgen wir. \n\n\n\nUm Anmeldung unter info@gestaltedeinsein.de oder per Telegram wird gebeten. \n\n\n\nHinweise zum Parken bei uns findest Du HIER.
URL:https://gestaltedeinsein.de/termine/zeit-fuer-begegnung-11/
LOCATION:Seminarhaus „gestalte DEIN  Sein!“
CATEGORIES:Netzwerken
ORGANIZER;CN="Stefan":MAILTO:info@gestaltedeinsein.de
END:VEVENT
BEGIN:VEVENT
DTSTART;TZID=Europe/Berlin:20251130T140000
DTEND;TZID=Europe/Berlin:20251130T170000
DTSTAMP:20260421T160007
CREATED:20250902T082019Z
LAST-MODIFIED:20251008T053305Z
UID:1532-1764511200-1764522000@gestaltedeinsein.de
SUMMARY:Duftende Weihnachtsgeschenke
DESCRIPTION:zaubere wunderschöne Geschenke für Dich und/oder deine Liebsten aus hochwertigen ätherischen Ölen\, z.B. Rollons zu verschiedenen Themen\, energetisiertes Duschsalz\, Körperöle\, Schlaf gut Kissenspray\, usw. \n\n\n\nIn entspannter Atmosphäre bei Apfelpunsch und Lebkuchen \n\n\n\nAnmeldung unter info@heilberatung-dahlhaus.de \n\n\n\nHinweise zum Parken bei uns findest Du HIER.
URL:https://gestaltedeinsein.de/termine/duftende-weihnachtsgeschenke/
LOCATION:Seminarhaus „gestalte DEIN  Sein!“
CATEGORIES:externer Veranstalter
ATTACH;FMTTYPE=image/jpeg:https://gestaltedeinsein.de/wp-content/uploads/2025/09/einfach-sein.jpg
ORGANIZER;CN="Petra Dahlhaus Heilberatung":MAILTO:info@heilberatung-dahlhaus.de
END:VEVENT
BEGIN:VEVENT
DTSTART;TZID=Europe/Berlin:20251129T150000
DTEND;TZID=Europe/Berlin:20251129T190000
DTSTAMP:20260421T160007
CREATED:20241213T164035Z
LAST-MODIFIED:20251008T053248Z
UID:1356-1764428400-1764442800@gestaltedeinsein.de
SUMMARY:Das Gesundheitswesen der Zukunft
DESCRIPTION:… aus der Reihe „Neue Zeit Neue Welt Neue Erde“. Vortrag\, Erfahrungsbericht und Diskussion. Wir bitten\, etwas für das gemeinsame Mitbringbuffett mizubringen. Für Getränke sorgen wir. \n\n\n\nUm Anmeldung unter info@gestaltedeinsein.de oder per Telegram wird gebeten. \n\n\n\nHinweise zum Parken bei uns findest Du HIER.
URL:https://gestaltedeinsein.de/termine/das-gesundheitswesen-der-zukunft/
LOCATION:Seminarhaus „gestalte DEIN  Sein!“
CATEGORIES:NZNWNE
ATTACH;FMTTYPE=image/png:https://gestaltedeinsein.de/wp-content/uploads/2024/11/20230424_Entwurf_Logo_3-e1732120776441.png
ORGANIZER;CN="Stefan":MAILTO:info@gestaltedeinsein.de
END:VEVENT
BEGIN:VEVENT
DTSTART;TZID=Europe/Berlin:20251122T140000
DTEND;TZID=Europe/Berlin:20251122T160000
DTSTAMP:20260421T160007
CREATED:20251007T052247Z
LAST-MODIFIED:20251107T062031Z
UID:1588-1763820000-1763827200@gestaltedeinsein.de
SUMMARY:Vortrag: Enthüllungen der inneren Sprache
DESCRIPTION:Dieser Vortrag von Emely Burtchen beschäftigt sich mit der unbewussten Sprache und wie wir mit ihr zu unserer inneren Wahrheit und auch zur Transformation finden können. Indem wir das Unbewusste hörbar machen\, können wir direkten Zugang zu unseren Blockaden\, Glaubenssätzen\, Verhaltensstrukturen und sogar zu unserer Seele bekommen. Mit Unterstützung von Hörbeispielen erklärt Emely Burtchen wie genau diese spannende Methode funktioniert. Im Anschluss gibt es die Möglichkeit sich intensiv darüber auszutauschen und ein Schnupperangebot wahrzunehmen. \n\n\n\nAnmeldungen bitte per Mail an innerspeechrevelations@posteo.de \n\n\n\nHinweise zum Parken bei uns findest Du HIER.
URL:https://gestaltedeinsein.de/termine/vortrag-enthuellungen-der-inneren-sprache/
LOCATION:Seminarhaus „gestalte DEIN  Sein!“
CATEGORIES:externer Veranstalter
ATTACH;FMTTYPE=image/png:https://gestaltedeinsein.de/wp-content/uploads/2025/10/ISR-LOGO-gold.png
ORGANIZER;CN="Emely Burtchen":MAILTO:innerspeechrevelations@posteo.de
END:VEVENT
BEGIN:VEVENT
DTSTART;TZID=Europe/Berlin:20251116T160000
DTEND;TZID=Europe/Berlin:20251116T190000
DTSTAMP:20260421T160007
CREATED:20251020T101216Z
LAST-MODIFIED:20251107T062023Z
UID:1622-1763308800-1763319600@gestaltedeinsein.de
SUMMARY:Kakao und Klang
DESCRIPTION:Reise in Deine inneren Räume\, nehme sie tiefer wahr\, mit dieser Kakaozeremonie\, begleitet durch impovisierte Klänge. \n\n\n\nAm Anfang wird natürlich Kakao getrunken. Dieser besondere Kakao in seiner reinen Form öffnet das Herz und macht dich emfänglicher für die Wahrnehmung deiner inneren Räume. \n\n\n\nDu kannst damit leichter entspannen\, lauschen und innerlich reisen. \n\n\n\nDabei unterstütze ich dich durch eine Klangreise. Während du entspannt daliegst\, improvisiere ich mit verschiedenen Instrumenten\, wie dem Gong\, Klangschalen\, Flöte und den Tönen meiner Stimme. \n\n\n\nKlangreisen helfen dir in Kontakt zu deinen inneren Anteilen zu kommen. \n\n\n\nAnmeldung an karenbrodersen@web.de bis spätestens 13.11.2025.
URL:https://gestaltedeinsein.de/termine/kakao-und-klang/
LOCATION:Seminarhaus „gestalte DEIN  Sein!“
CATEGORIES:externer Veranstalter
ATTACH;FMTTYPE=image/jpeg:https://gestaltedeinsein.de/wp-content/uploads/2025/10/signal-2025-10-15-204812.jpeg
ORGANIZER;CN="Karen Brodersen":MAILTO:karenbrodersen@web.de
END:VEVENT
BEGIN:VEVENT
DTSTART;TZID=Europe/Berlin:20251114T180000
DTEND;TZID=Europe/Berlin:20251114T220000
DTSTAMP:20260421T160007
CREATED:20241213T164520Z
LAST-MODIFIED:20251028T094942Z
UID:1362-1763143200-1763157600@gestaltedeinsein.de
SUMMARY:Zeit für Begegnung
DESCRIPTION:Geselliges Beisammensein und Austausch rund um einen Vortrag von 30 bis 60 Minuten. Jan und Catrin stellen ihre Genossenschaft mit Solawi und TinyHouse-Park vor. \n\n\n\nWir bitten\, etwas für das gemeinsame Mitbringbuffett mizubringen. Für Getränke sorgen wir. \n\n\n\nUm Anmeldung unter info@gestaltedeinsein.de oder per Telegram wird gebeten. \n\n\n\nHinweise zum Parken bei uns findest Du HIER.
URL:https://gestaltedeinsein.de/termine/zeit-fuer-begegnung-10/
LOCATION:Seminarhaus „gestalte DEIN  Sein!“
CATEGORIES:Netzwerken
ORGANIZER;CN="Stefan":MAILTO:info@gestaltedeinsein.de
END:VEVENT
BEGIN:VEVENT
DTSTART;TZID=Europe/Berlin:20251102T100000
DTEND;TZID=Europe/Berlin:20251102T180000
DTSTAMP:20260421T160007
CREATED:20250830T093430Z
LAST-MODIFIED:20251008T052846Z
UID:1525-1762077600-1762106400@gestaltedeinsein.de
SUMMARY:Der Name der Kraft
DESCRIPTION:In diesem Seminar klärst Du Deine(n) Vornamen. Aus unserer Sicht hast Du Dir die Namen als Hilfe und Aufgabe gegeben. Gebe ihnen Kraft\, heile Projektion und eventuelle Ablehnung\, die auf Deine(n) Vornamen liegt. Sobald Dein(e) Vornamen klar und rein sind\, helfen wir Dir Deinen „Namen der Kraft“ zu finden. Im Seminarpreis ist ein Bergkristall-Massagegriffel enthalten\, welcher das Werkzeug für die Namensklärung ist. \n\n\n\nAnmeldung per Mail an info@gestaltedeinsein.de. Anmeldeschluß ist der 15.10.2025 \n\n\n\nHinweise zum Parken bei uns findest Du HIER.
URL:https://gestaltedeinsein.de/termine/der-name-der-kraft/
LOCATION:Seminarhaus „gestalte DEIN  Sein!“
CATEGORIES:gestalte DEIN Sein!
ATTACH;FMTTYPE=image/png:https://gestaltedeinsein.de/wp-content/uploads/2019/12/20191212_Logo_mit_Schriftzug_transparent_450x100.png
ORGANIZER;CN="gestalte DEIN Sein!":MAILTO:info@gestaltedeinsein.de
END:VEVENT
BEGIN:VEVENT
DTSTART;TZID=Europe/Berlin:20251026T140000
DTEND;TZID=Europe/Berlin:20251026T170000
DTSTAMP:20260421T160007
CREATED:20250902T081338Z
LAST-MODIFIED:20251008T052830Z
UID:1527-1761487200-1761498000@gestaltedeinsein.de
SUMMARY:Wohlfühl-Aroma-Nachmittag "Duftende Schätze"
DESCRIPTION:Tauche ein in die wunderbare Welt der ätherischen Öle und entdecke\, wie diese natürlichen Düfte dein Wohlbefinden bereichern können. Erlebe\, wie du ätherische Öle angenehm in deinen Alltag integrieren kannst.Bei diesem Wohlfühl-Event genießt du hochwertige\, reine Naturessenzen mit allen Sinnen und sammelst dabei wertvolle Erfahrungen. Lass dich inspirieren und kreiere deinen persönlichen Roll-on oder ein Spray\, abgestimmt auf deine individuellen Bedürfnisse oder als Geschenk\, z. B. Freier Kopf\, Bauchwohl\, Schlaf gut\, Konzentration & Energie und vieles mehr.Wertschätzung: 60 Euro pro Teilnehmer inkl. 5 ml Rollon oder 15 ml Spray\, Handout\, Snacks und „Spezial“wasser \n\n\n\nDieser Kurs ist perfekt für Einsteiger und alle\, die sich für natürliche Wege zur Steigerung ihres Wohlbefindens interessieren. Anmeldung über info@heilberatung-dahlhaus.de \n\n\n\nHinweise zum Parken bei uns findest Du HIER.
URL:https://gestaltedeinsein.de/termine/wohlfuehl-aroma-nachmittag-duftende-schaetze/
LOCATION:Seminarhaus „gestalte DEIN  Sein!“
CATEGORIES:externer Veranstalter
ATTACH;FMTTYPE=image/jpeg:https://gestaltedeinsein.de/wp-content/uploads/2025/09/einfach-sein.jpg
ORGANIZER;CN="Petra Dahlhaus Heilberatung":MAILTO:info@heilberatung-dahlhaus.de
END:VEVENT
BEGIN:VEVENT
DTSTART;TZID=Europe/Berlin:20251025T150000
DTEND;TZID=Europe/Berlin:20251025T190000
DTSTAMP:20260421T160007
CREATED:20241213T163755Z
LAST-MODIFIED:20251008T052759Z
UID:1352-1761404400-1761418800@gestaltedeinsein.de
SUMMARY:Hat Eigenverantwortung Grenzen?
DESCRIPTION:… aus der Reihe „Neue Zeit Neue Welt Neue Erde“. Vortrag\, Erfahrungsbericht und Diskussion. Wir bitten\, etwas für das gemeinsame Mitbringbuffett mizubringen. Für Getränke sorgen wir. \n\n\n\nUm Anmeldung unter info@gestaltedeinsein.de oder per Telegram wird gebeten. \n\n\n\nHinweise zum Parken bei uns findest Du HIER.
URL:https://gestaltedeinsein.de/termine/hat-eigenverantwortung-grenzen/
LOCATION:Seminarhaus „gestalte DEIN  Sein!“
CATEGORIES:NZNWNE
ATTACH;FMTTYPE=image/png:https://gestaltedeinsein.de/wp-content/uploads/2024/11/20230424_Entwurf_Logo_3-e1732120776441.png
ORGANIZER;CN="Stefan":MAILTO:info@gestaltedeinsein.de
END:VEVENT
END:VCALENDAR